BEGIN:VCALENDAR
VERSION:2.0
PRODID:-//Hoogenkamp Consultancy, Advies en Training - ECPv6.15.20//NONSGML v1.0//EN
CALSCALE:GREGORIAN
METHOD:PUBLISH
X-ORIGINAL-URL:https://www.hcat.nl
X-WR-CALDESC:Evenementen voor Hoogenkamp Consultancy, Advies en Training
REFRESH-INTERVAL;VALUE=DURATION:PT1H
X-Robots-Tag:noindex
X-PUBLISHED-TTL:PT1H
BEGIN:VTIMEZONE
TZID:Europe/Amsterdam
BEGIN:DAYLIGHT
TZOFFSETFROM:+0100
TZOFFSETTO:+0200
TZNAME:CEST
DTSTART:20250330T010000
END:DAYLIGHT
BEGIN:STANDARD
TZOFFSETFROM:+0200
TZOFFSETTO:+0100
TZNAME:CET
DTSTART:20251026T010000
END:STANDARD
BEGIN:DAYLIGHT
TZOFFSETFROM:+0100
TZOFFSETTO:+0200
TZNAME:CEST
DTSTART:20260329T010000
END:DAYLIGHT
BEGIN:STANDARD
TZOFFSETFROM:+0200
TZOFFSETTO:+0100
TZNAME:CET
DTSTART:20261025T010000
END:STANDARD
BEGIN:DAYLIGHT
TZOFFSETFROM:+0100
TZOFFSETTO:+0200
TZNAME:CEST
DTSTART:20270328T010000
END:DAYLIGHT
BEGIN:STANDARD
TZOFFSETFROM:+0200
TZOFFSETTO:+0100
TZNAME:CET
DTSTART:20271031T010000
END:STANDARD
END:VTIMEZONE
BEGIN:VEVENT
DTSTART;TZID=Europe/Amsterdam:20261102T090000
DTEND;TZID=Europe/Amsterdam:20261130T170000
DTSTAMP:20260421T155322
CREATED:20260305T230010Z
LAST-MODIFIED:20260421T094417Z
UID:10000005-1793610000-1796058000@www.hcat.nl
SUMMARY:Verdiepingstraining medische gassen voor leidinggevenden - november 2026
DESCRIPTION:Verdiepingstraining medische gassen voor leidinggevenden.\nWaar bij de verdiepingstraining medische gassen voor technici sterk de nadruk ligt op de techniek van een medische gassen installatie\, ligt in deze training meer de nadruk op de organisatie van de werkzaamheden. \nAan het einde van de training hebben de ziekenhuisapotheker en het hoofd technische zaken een eerste aanzet gemaakt voor een Kwaliteitssysteem Medische Gassen in hun ziekenhuis en zijn ze zelfstandig in staat het managementsysteem af te ronden en te onderhouden. Daarbij wordt extra aandacht besteedt aan het gevalideerd houden van de installatie conform de GMP-z en de eisen die daardoor gesteld worden aan de werkzaamheden. \n \nDeze verdiepingstraining is voor ziekenhuisapothekers geaccrediteerd door de NVZA met 6 punten. \nOnderwerpen die aan de orde komen:\n\nTaken – verantwoordelijkheden – bevoegdheden rondom de medische gassen installatie\nWelke werkzaamheden zijn er in een medische gassen installatie en hoe kunnen de afspraken en de te volgen werkwijzen vastgelegd worden\nWat zijn typische processen van een ziekenhuisapotheek en welke processen horen bij een technische dienst\nHoe moet de samenwerking tussen de ziekenhuisapotheker en de medewerkers van de technische dienst georganiseerd worden\n\nAanpak\nAls belangrijk uitgangspunt voor onze trainingen hanteren we het feit dat de inklaring\, opwekking en distributie van medische gassen als de bereiding van een medicijn gezien moet worden. Vanuit dit uitgangspunt stelt de ziekenhuisapotheker strenge voorwaarden aan medische gassen. Deze voorwaarden zijn vastgelegd in de Good Manufacturing Practice – Ziekenhuisfarmacie (GMP-z). Het introduceren van de deelnemers  in de voorschriften en de bijbehorende werkwijzen van de GMP-z\, binnen de context van medische gassen\, is dan ook een belangrijk onderdeel van onze trainingen. \nDeze training is een vervolg op de cursus medische gassen voor technische professionals en ziekenhuisapothekers. U dient de NEN-EN-ISO 7396-1:2019 al te kennen en bekend te zijn met de basisbeginselen van een medische gassen installatie. \nData\, locatie en kosten\nDe Verdiepingstraining Medische Gassen voor Leidinggevenden\, duurt 1 dag en wordt georganiseerd in de maand november. \nDeelname aan deze eendaagse training kost € 695\,- (excl. BTW) per persoon. \nHier kunt u zich aanmelden voor deze training: Aanmeldpagina Verdiepingstraining medische gassen voor leidinggevenden \nIn company\nDe cursus kunnen wij ook in company organiseren. Uw voordeel is dat de cursus dan echt toegesneden wordt op de feitelijke situatie zoals die in uw ziekenhuis van toepassing is. Daarnaast kunnen de verantwoordelijke apothekers en de technici gelijktijdig deelnemen. Hierdoor ontstaat gedeeld begrip van de problematiek en wordt de basis gelegd voor vruchtbare samenwerking. \nDit delen:\n				Delen op LinkedIn (Opent in een nieuw venster)\n				LinkedIn\n			\n				Share op Facebook (Opent in een nieuw venster)\n				Facebook\n			\n				Delen op X (Opent in een nieuw venster)\n				X\n			Meer\n				E-mail een link naar een vriend (Opent in een nieuw venster)\n				E-mail\n			\n				Afdrukken (Opent in een nieuw venster)\n				Print\n			Vind ik leuk:Vind-ik-leuk Aan het laden...
URL:https://www.hcat.nl/event/verdiepingstraining-medische-gassen-november-2026/
LOCATION:utrecht\, Jaarbeursplein\, Utrecht\, Utrecht\, 3521 AL
CATEGORIES:Verdiepingstraining
ATTACH;FMTTYPE=image/jpeg:https://www.hcat.nl/wp-content/uploads/2015/01/training-e1504447617674.jpg
ORGANIZER;CN="Hoogenkamp Consultancy%2C Advies en Training":MAILTO:arnold.hoogenkamp@hcat.nl
END:VEVENT
END:VCALENDAR